BEGIN:VCALENDAR
VERSION:2.0
PRODID:-//Fellowship Covenant Church - ECPv6.15.20//NONSGML v1.0//EN
CALSCALE:GREGORIAN
METHOD:PUBLISH
X-WR-CALNAME:Fellowship Covenant Church
X-ORIGINAL-URL:https://fellowshipcovenant.church
X-WR-CALDESC:Events for Fellowship Covenant Church
REFRESH-INTERVAL;VALUE=DURATION:PT1H
X-Robots-Tag:noindex
X-PUBLISHED-TTL:PT1H
BEGIN:VTIMEZONE
TZID:America/New_York
BEGIN:DAYLIGHT
TZOFFSETFROM:-0500
TZOFFSETTO:-0400
TZNAME:EDT
DTSTART:20220313T070000
END:DAYLIGHT
BEGIN:STANDARD
TZOFFSETFROM:-0400
TZOFFSETTO:-0500
TZNAME:EST
DTSTART:20221106T060000
END:STANDARD
BEGIN:DAYLIGHT
TZOFFSETFROM:-0500
TZOFFSETTO:-0400
TZNAME:EDT
DTSTART:20230312T070000
END:DAYLIGHT
BEGIN:STANDARD
TZOFFSETFROM:-0400
TZOFFSETTO:-0500
TZNAME:EST
DTSTART:20231105T060000
END:STANDARD
BEGIN:DAYLIGHT
TZOFFSETFROM:-0500
TZOFFSETTO:-0400
TZNAME:EDT
DTSTART:20240310T070000
END:DAYLIGHT
BEGIN:STANDARD
TZOFFSETFROM:-0400
TZOFFSETTO:-0500
TZNAME:EST
DTSTART:20241103T060000
END:STANDARD
BEGIN:DAYLIGHT
TZOFFSETFROM:-0500
TZOFFSETTO:-0400
TZNAME:EDT
DTSTART:20250309T070000
END:DAYLIGHT
BEGIN:STANDARD
TZOFFSETFROM:-0400
TZOFFSETTO:-0500
TZNAME:EST
DTSTART:20251102T060000
END:STANDARD
BEGIN:DAYLIGHT
TZOFFSETFROM:-0500
TZOFFSETTO:-0400
TZNAME:EDT
DTSTART:20260308T070000
END:DAYLIGHT
BEGIN:STANDARD
TZOFFSETFROM:-0400
TZOFFSETTO:-0500
TZNAME:EST
DTSTART:20261101T060000
END:STANDARD
END:VTIMEZONE
BEGIN:VEVENT
DTSTART;TZID=America/New_York:20250806T120000
DTEND;TZID=America/New_York:20250806T130000
DTSTAMP:20260421T193435
CREATED:20250805T010628Z
LAST-MODIFIED:20250805T010854Z
UID:10711-1754481600-1754485200@fellowshipcovenant.church
SUMMARY:In Person Bible Study
DESCRIPTION:
URL:https://fellowshipcovenant.church/event/in-person-bible-study-2/
END:VEVENT
BEGIN:VEVENT
DTSTART;TZID=America/New_York:20250803T094500
DTEND;TZID=America/New_York:20250803T120000
DTSTAMP:20260421T193435
CREATED:20250729T225850Z
LAST-MODIFIED:20250729T230551Z
UID:10671-1754214300-1754222400@fellowshipcovenant.church
SUMMARY:Sunday Worship Service
DESCRIPTION:
URL:https://fellowshipcovenant.church/event/sunday-worship-service-9/
END:VEVENT
BEGIN:VEVENT
DTSTART;TZID=America/New_York:20250806T120000
DTEND;TZID=America/New_York:20250806T130000
DTSTAMP:20260421T193435
CREATED:20250805T010628Z
LAST-MODIFIED:20250805T010854Z
UID:10711-1754481600-1754485200@fellowshipcovenant.church
SUMMARY:In Person Bible Study
DESCRIPTION:
URL:https://fellowshipcovenant.church/event/in-person-bible-study-2/
END:VEVENT
BEGIN:VEVENT
DTSTART;TZID=America/New_York:20250803T094500
DTEND;TZID=America/New_York:20250803T120000
DTSTAMP:20260421T193435
CREATED:20250729T225850Z
LAST-MODIFIED:20250729T230551Z
UID:10671-1754214300-1754222400@fellowshipcovenant.church
SUMMARY:Sunday Worship Service
DESCRIPTION:
URL:https://fellowshipcovenant.church/event/sunday-worship-service-9/
END:VEVENT
BEGIN:VEVENT
DTSTART;TZID=America/New_York:20250806T120000
DTEND;TZID=America/New_York:20250806T130000
DTSTAMP:20260421T193435
CREATED:20250805T010628Z
LAST-MODIFIED:20250805T010854Z
UID:10711-1754481600-1754485200@fellowshipcovenant.church
SUMMARY:In Person Bible Study
DESCRIPTION:
URL:https://fellowshipcovenant.church/event/in-person-bible-study-2/
END:VEVENT
BEGIN:VEVENT
DTSTART;TZID=America/New_York:20250803T094500
DTEND;TZID=America/New_York:20250803T120000
DTSTAMP:20260421T193435
CREATED:20250729T225850Z
LAST-MODIFIED:20250729T230551Z
UID:10671-1754214300-1754222400@fellowshipcovenant.church
SUMMARY:Sunday Worship Service
DESCRIPTION:
URL:https://fellowshipcovenant.church/event/sunday-worship-service-9/
END:VEVENT
BEGIN:VEVENT
DTSTART;TZID=America/New_York:20250806T120000
DTEND;TZID=America/New_York:20250806T130000
DTSTAMP:20260421T193435
CREATED:20250805T010628Z
LAST-MODIFIED:20250805T010854Z
UID:10711-1754481600-1754485200@fellowshipcovenant.church
SUMMARY:In Person Bible Study
DESCRIPTION:
URL:https://fellowshipcovenant.church/event/in-person-bible-study-2/
END:VEVENT
BEGIN:VEVENT
DTSTART;TZID=America/New_York:20250803T094500
DTEND;TZID=America/New_York:20250803T120000
DTSTAMP:20260421T193435
CREATED:20250729T225850Z
LAST-MODIFIED:20250729T230551Z
UID:10671-1754214300-1754222400@fellowshipcovenant.church
SUMMARY:Sunday Worship Service
DESCRIPTION:
URL:https://fellowshipcovenant.church/event/sunday-worship-service-9/
END:VEVENT
BEGIN:VEVENT
DTSTART;TZID=America/New_York:20250806T120000
DTEND;TZID=America/New_York:20250806T130000
DTSTAMP:20260421T193435
CREATED:20250805T010628Z
LAST-MODIFIED:20250805T010854Z
UID:10711-1754481600-1754485200@fellowshipcovenant.church
SUMMARY:In Person Bible Study
DESCRIPTION:
URL:https://fellowshipcovenant.church/event/in-person-bible-study-2/
END:VEVENT
BEGIN:VEVENT
DTSTART;TZID=America/New_York:20250803T094500
DTEND;TZID=America/New_York:20250803T120000
DTSTAMP:20260421T193435
CREATED:20250729T225850Z
LAST-MODIFIED:20250729T230551Z
UID:10671-1754214300-1754222400@fellowshipcovenant.church
SUMMARY:Sunday Worship Service
DESCRIPTION:
URL:https://fellowshipcovenant.church/event/sunday-worship-service-9/
END:VEVENT
BEGIN:VEVENT
DTSTART;TZID=America/New_York:20250806T120000
DTEND;TZID=America/New_York:20250806T130000
DTSTAMP:20260421T193435
CREATED:20250805T010628Z
LAST-MODIFIED:20250805T010854Z
UID:10711-1754481600-1754485200@fellowshipcovenant.church
SUMMARY:In Person Bible Study
DESCRIPTION:
URL:https://fellowshipcovenant.church/event/in-person-bible-study-2/
END:VEVENT
BEGIN:VEVENT
DTSTART;TZID=America/New_York:20250803T094500
DTEND;TZID=America/New_York:20250803T120000
DTSTAMP:20260421T193435
CREATED:20250729T225850Z
LAST-MODIFIED:20250729T230551Z
UID:10671-1754214300-1754222400@fellowshipcovenant.church
SUMMARY:Sunday Worship Service
DESCRIPTION:
URL:https://fellowshipcovenant.church/event/sunday-worship-service-9/
END:VEVENT
BEGIN:VEVENT
DTSTART;TZID=America/New_York:20250806T120000
DTEND;TZID=America/New_York:20250806T130000
DTSTAMP:20260421T193435
CREATED:20250805T010628Z
LAST-MODIFIED:20250805T010854Z
UID:10711-1754481600-1754485200@fellowshipcovenant.church
SUMMARY:In Person Bible Study
DESCRIPTION:
URL:https://fellowshipcovenant.church/event/in-person-bible-study-2/
END:VEVENT
BEGIN:VEVENT
DTSTART;TZID=America/New_York:20250803T094500
DTEND;TZID=America/New_York:20250803T120000
DTSTAMP:20260421T193435
CREATED:20250729T225850Z
LAST-MODIFIED:20250729T230551Z
UID:10671-1754214300-1754222400@fellowshipcovenant.church
SUMMARY:Sunday Worship Service
DESCRIPTION:
URL:https://fellowshipcovenant.church/event/sunday-worship-service-9/
END:VEVENT
BEGIN:VEVENT
DTSTART;TZID=America/New_York:20250806T120000
DTEND;TZID=America/New_York:20250806T130000
DTSTAMP:20260421T193435
CREATED:20250805T010628Z
LAST-MODIFIED:20250805T010854Z
UID:10711-1754481600-1754485200@fellowshipcovenant.church
SUMMARY:In Person Bible Study
DESCRIPTION:
URL:https://fellowshipcovenant.church/event/in-person-bible-study-2/
END:VEVENT
BEGIN:VEVENT
DTSTART;TZID=America/New_York:20250803T094500
DTEND;TZID=America/New_York:20250803T120000
DTSTAMP:20260421T193435
CREATED:20250729T225850Z
LAST-MODIFIED:20250729T230551Z
UID:10671-1754214300-1754222400@fellowshipcovenant.church
SUMMARY:Sunday Worship Service
DESCRIPTION:
URL:https://fellowshipcovenant.church/event/sunday-worship-service-9/
END:VEVENT
BEGIN:VEVENT
DTSTART;TZID=America/New_York:20250806T120000
DTEND;TZID=America/New_York:20250806T130000
DTSTAMP:20260421T193435
CREATED:20250805T010628Z
LAST-MODIFIED:20250805T010854Z
UID:10711-1754481600-1754485200@fellowshipcovenant.church
SUMMARY:In Person Bible Study
DESCRIPTION:
URL:https://fellowshipcovenant.church/event/in-person-bible-study-2/
END:VEVENT
BEGIN:VEVENT
DTSTART;TZID=America/New_York:20250803T094500
DTEND;TZID=America/New_York:20250803T120000
DTSTAMP:20260421T193435
CREATED:20250729T225850Z
LAST-MODIFIED:20250729T230551Z
UID:10671-1754214300-1754222400@fellowshipcovenant.church
SUMMARY:Sunday Worship Service
DESCRIPTION:
URL:https://fellowshipcovenant.church/event/sunday-worship-service-9/
END:VEVENT
BEGIN:VEVENT
DTSTART;TZID=America/New_York:20250806T120000
DTEND;TZID=America/New_York:20250806T130000
DTSTAMP:20260421T193435
CREATED:20250805T010628Z
LAST-MODIFIED:20250805T010854Z
UID:10711-1754481600-1754485200@fellowshipcovenant.church
SUMMARY:In Person Bible Study
DESCRIPTION:
URL:https://fellowshipcovenant.church/event/in-person-bible-study-2/
END:VEVENT
BEGIN:VEVENT
DTSTART;TZID=America/New_York:20250803T094500
DTEND;TZID=America/New_York:20250803T120000
DTSTAMP:20260421T193435
CREATED:20250729T225850Z
LAST-MODIFIED:20250729T230551Z
UID:10671-1754214300-1754222400@fellowshipcovenant.church
SUMMARY:Sunday Worship Service
DESCRIPTION:
URL:https://fellowshipcovenant.church/event/sunday-worship-service-9/
END:VEVENT
BEGIN:VEVENT
DTSTART;TZID=America/New_York:20250806T120000
DTEND;TZID=America/New_York:20250806T130000
DTSTAMP:20260421T193435
CREATED:20250805T010628Z
LAST-MODIFIED:20250805T010854Z
UID:10711-1754481600-1754485200@fellowshipcovenant.church
SUMMARY:In Person Bible Study
DESCRIPTION:
URL:https://fellowshipcovenant.church/event/in-person-bible-study-2/
END:VEVENT
BEGIN:VEVENT
DTSTART;TZID=America/New_York:20250803T094500
DTEND;TZID=America/New_York:20250803T120000
DTSTAMP:20260421T193435
CREATED:20250729T225850Z
LAST-MODIFIED:20250729T230551Z
UID:10671-1754214300-1754222400@fellowshipcovenant.church
SUMMARY:Sunday Worship Service
DESCRIPTION:
URL:https://fellowshipcovenant.church/event/sunday-worship-service-9/
END:VEVENT
BEGIN:VEVENT
DTSTART;TZID=America/New_York:20250806T120000
DTEND;TZID=America/New_York:20250806T130000
DTSTAMP:20260421T193435
CREATED:20250805T010628Z
LAST-MODIFIED:20250805T010854Z
UID:10711-1754481600-1754485200@fellowshipcovenant.church
SUMMARY:In Person Bible Study
DESCRIPTION:
URL:https://fellowshipcovenant.church/event/in-person-bible-study-2/
END:VEVENT
BEGIN:VEVENT
DTSTART;TZID=America/New_York:20250803T094500
DTEND;TZID=America/New_York:20250803T120000
DTSTAMP:20260421T193435
CREATED:20250729T225850Z
LAST-MODIFIED:20250729T230551Z
UID:10671-1754214300-1754222400@fellowshipcovenant.church
SUMMARY:Sunday Worship Service
DESCRIPTION:
URL:https://fellowshipcovenant.church/event/sunday-worship-service-9/
END:VEVENT
BEGIN:VEVENT
DTSTART;TZID=America/New_York:20250504T100000
DTEND;TZID=America/New_York:20250504T120000
DTSTAMP:20260421T193435
CREATED:20250428T230814Z
LAST-MODIFIED:20250506T223459Z
UID:10533-1746352800-1746360000@fellowshipcovenant.church
SUMMARY:Sunday Worship Service
DESCRIPTION:
URL:https://fellowshipcovenant.church/event/sunday-worship-service-6/
END:VEVENT
BEGIN:VEVENT
DTSTART;VALUE=DATE:20230930
DTEND;VALUE=DATE:20231001
DTSTAMP:20260421T193435
CREATED:20230212T225300Z
LAST-MODIFIED:20230212T225300Z
UID:10461-1696032000-1696118399@fellowshipcovenant.church
SUMMARY:MIT Half Day Intensive
DESCRIPTION:
URL:https://fellowshipcovenant.church/event/mit-half-day-intensive-2/
END:VEVENT
BEGIN:VEVENT
DTSTART;VALUE=DATE:20230923
DTEND;VALUE=DATE:20230924
DTSTAMP:20260421T193435
CREATED:20230212T224946Z
LAST-MODIFIED:20230828T001439Z
UID:10459-1695427200-1695513599@fellowshipcovenant.church
SUMMARY:Safe Conversations Townhall Gatherings
DESCRIPTION:
URL:https://fellowshipcovenant.church/event/safe-conversations-townhall-gatherings-3/
END:VEVENT
BEGIN:VEVENT
DTSTART;VALUE=DATE:20230910
DTEND;VALUE=DATE:20230911
DTSTAMP:20260421T193435
CREATED:20230212T224647Z
LAST-MODIFIED:20230212T225020Z
UID:10457-1694304000-1694390399@fellowshipcovenant.church
SUMMARY:National Grandparent's Day Show and Tell
DESCRIPTION:
URL:https://fellowshipcovenant.church/event/national-grandparents-day-show-and-tell/
END:VEVENT
BEGIN:VEVENT
DTSTART;VALUE=DATE:20230812
DTEND;VALUE=DATE:20230813
DTSTAMP:20260421T193435
CREATED:20230212T224453Z
LAST-MODIFIED:20230212T224453Z
UID:10453-1691798400-1691884799@fellowshipcovenant.church
SUMMARY:CHRC Bookbag Giveaway
DESCRIPTION:
URL:https://fellowshipcovenant.church/event/chrc-bookbag-giveaway/
END:VEVENT
BEGIN:VEVENT
DTSTART;VALUE=DATE:20230729
DTEND;VALUE=DATE:20230730
DTSTAMP:20260421T193435
CREATED:20230212T223933Z
LAST-MODIFIED:20230212T223933Z
UID:10451-1690588800-1690675199@fellowshipcovenant.church
SUMMARY:Covenant Love Couples Event
DESCRIPTION:
URL:https://fellowshipcovenant.church/event/covenant-love-couples-event/
END:VEVENT
END:VCALENDAR